BEGIN:VCALENDAR
VERSION:2.0
PRODID:-//Central Florida Vocal Arts - ECPv6.15.20//NONSGML v1.0//EN
CALSCALE:GREGORIAN
METHOD:PUBLISH
X-WR-CALNAME:Central Florida Vocal Arts
X-ORIGINAL-URL:https://centralfloridavocalarts.org
X-WR-CALDESC:Events for Central Florida Vocal Arts
REFRESH-INTERVAL;VALUE=DURATION:PT1H
X-Robots-Tag:noindex
X-PUBLISHED-TTL:PT1H
BEGIN:VTIMEZONE
TZID:UTC
BEGIN:STANDARD
TZOFFSETFROM:+0000
TZOFFSETTO:+0000
TZNAME:UTC
DTSTART:20240101T000000
END:STANDARD
END:VTIMEZONE
BEGIN:VEVENT
DTSTART;TZID=UTC:20250517T093000
DTEND;TZID=UTC:20250517T113000
DTSTAMP:20260422T093426
CREATED:20250516T132235Z
LAST-MODIFIED:20250516T132235Z
UID:3820-1747474200-1747481400@centralfloridavocalarts.org
SUMMARY:DTOLive!
DESCRIPTION:Ready to feel the art beat of the city? DTOLive brings you more than 800 free arts and cultural events between now and June 2025. There is something exciting for everyone. Enjoy Central Florida Vocal Arts performance at Lake Eola Amphitheater!
URL:https://centralfloridavocalarts.org/event/dtolive/
LOCATION:Lake Eola Amphitheater\, 195 N Rosalind Ave\, Orlando\, FL\, 32801\, United States
END:VEVENT
END:VCALENDAR