BEGIN:VCALENDAR
VERSION:2.0
PRODID:-//Central Florida Vocal Arts - ECPv6.15.20//NONSGML v1.0//EN
CALSCALE:GREGORIAN
METHOD:PUBLISH
X-ORIGINAL-URL:https://centralfloridavocalarts.org
X-WR-CALDESC:Events for Central Florida Vocal Arts
REFRESH-INTERVAL;VALUE=DURATION:PT1H
X-Robots-Tag:noindex
X-PUBLISHED-TTL:PT1H
BEGIN:VTIMEZONE
TZID:UTC
BEGIN:STANDARD
TZOFFSETFROM:+0000
TZOFFSETTO:+0000
TZNAME:UTC
DTSTART:20240101T000000
END:STANDARD
END:VTIMEZONE
BEGIN:VEVENT
DTSTART;TZID=UTC:20250518T100000
DTEND;TZID=UTC:20250518T103000
DTSTAMP:20260422T093556
CREATED:20250505T144118Z
LAST-MODIFIED:20250509T184011Z
UID:3802-1747562400-1747564200@centralfloridavocalarts.org
SUMMARY:Kids Fringe - Musical Treehouse by Central Florida Vocal Arts
DESCRIPTION:Ages: 2+; adults welcome\nJoin Central Florida Vocal Arts for an interactive music show where kids become the stars!\nOur lively crew of musician-performers will sing\, dance\, and play live instruments—then the kids can grab toy instruments and share their voices to join the fun! It’s a hands-on musical adventure full of catchy tunes and silly sounds that spark creativity and get everyone moving.\nPerfect for little rockstars ages 2 and up!
URL:https://centralfloridavocalarts.org/event/kids-fringe-musical-treehouse-by-central-florida-vocal-arts/
CATEGORIES:Special Events
ATTACH;FMTTYPE=image/webp:https://centralfloridavocalarts.org/wp-content/uploads/2025/05/Heading-Facebook-Cover-2.webp
END:VEVENT
END:VCALENDAR