BEGIN:VCALENDAR
VERSION:2.0
PRODID:-//Central Florida Vocal Arts - ECPv6.15.20//NONSGML v1.0//EN
CALSCALE:GREGORIAN
METHOD:PUBLISH
X-WR-CALNAME:Central Florida Vocal Arts
X-ORIGINAL-URL:https://centralfloridavocalarts.org
X-WR-CALDESC:Events for Central Florida Vocal Arts
REFRESH-INTERVAL;VALUE=DURATION:PT1H
X-Robots-Tag:noindex
X-PUBLISHED-TTL:PT1H
BEGIN:VTIMEZONE
TZID:UTC
BEGIN:STANDARD
TZOFFSETFROM:+0000
TZOFFSETTO:+0000
TZNAME:UTC
DTSTART:20240101T000000
END:STANDARD
END:VTIMEZONE
BEGIN:VEVENT
DTSTART;VALUE=DATE:20251107
DTEND;VALUE=DATE:20251110
DTSTAMP:20260421T234855
CREATED:20250509T173752Z
LAST-MODIFIED:20250820T124432Z
UID:3812-1762473600-1762732799@centralfloridavocalarts.org
SUMMARY:Sunday in the Park with George
DESCRIPTION:🎨 Central Florida Vocal Arts and Opera Del Sol Present: Sunday in the Park with George 🎨 \nStep into the world of color\, creativity\, and complexity this November as Central Florida Vocal Arts and Opera Del Sol present Stephen Sondheim’s Pulitzer Prize-winning masterpiece\, Sunday in the Park with George—a poignant and visually stunning exploration of art\, love\, and legacy. \nInspired by the painting A Sunday Afternoon on the Island of La Grande Jatte by Georges Seurat\, this groundbreaking musical follows the artist’s obsessive pursuit of perfection and the emotional cost of creation. With an unforgettable score and deeply human storytelling\, Sunday in the Park with George examines what it means to make something meaningful—and how art connects us across time. \nThis production brings one of Sondheim’s most visually rich and emotionally complex works to life with sweeping orchestration and theatrical innovation. Experience a show that will challenge\, inspire\, and stay with you long after the final note. \n🎭 November 7–9\, 2025 | Dr. Phillips Center for Performing Arts Alexis & Jim Pugh Theater | Orlando\, FL \nTickets are on presale now! \n\n\nGet Tickets
URL:https://centralfloridavocalarts.org/event/sunday-in-the-park-with-george/
LOCATION:Dr. Phillips Center Alexis & Jim Pugh Theater\, 445 South Magnolia Avenue\, Orlando\, FL\, 32801\, United States
CATEGORIES:OperaDelSol,Productions
ATTACH;FMTTYPE=image/webp:https://centralfloridavocalarts.org/wp-content/uploads/2025/05/summer-in-the-park-george.webp
END:VEVENT
END:VCALENDAR