BEGIN:VCALENDAR
VERSION:2.0
PRODID:-//Central Florida Vocal Arts - ECPv6.15.20//NONSGML v1.0//EN
CALSCALE:GREGORIAN
METHOD:PUBLISH
X-ORIGINAL-URL:https://centralfloridavocalarts.org
X-WR-CALDESC:Events for Central Florida Vocal Arts
REFRESH-INTERVAL;VALUE=DURATION:PT1H
X-Robots-Tag:noindex
X-PUBLISHED-TTL:PT1H
BEGIN:VTIMEZONE
TZID:UTC
BEGIN:STANDARD
TZOFFSETFROM:+0000
TZOFFSETTO:+0000
TZNAME:UTC
DTSTART:20250101T000000
END:STANDARD
END:VTIMEZONE
BEGIN:VEVENT
DTSTART;TZID=UTC:20260206T190000
DTEND;TZID=UTC:20260206T210000
DTSTAMP:20260421T184019
CREATED:20251216T200656Z
LAST-MODIFIED:20260109T190200Z
UID:381-1770404400-1770411600@centralfloridavocalarts.org
SUMMARY:Broadway star Jasmine Forsberg to Headline Arts Weekend
DESCRIPTION:Broadway star Jasmine Forsberg of SIX The Musical ® will headline a FREE community concert Friday\, February 6\, 2026\, beginning at 7 p.m.\, on the Central Park main stage. Presented by Central Florida Vocal Arts (CFVA)\, the concert will feature showstopping pop\, rock and musical theater melodies backed by a live band led by pianist Julian Bond. Patrons are encouraged to bring blankets and chairs to enjoy this magical evening under the stars. This event is a vibrant piece of Arts Weekend ~ A Tapestry of Experiences hosted by the city’s Arts & Culture Alliance\, and presented by the Edyth Bush Charitable Foundation and AdventHealth\, running Thursday through Sunday\, February 5 – 8\, 2026. \nArts Weekend\, a Tapestry of Experiences is an annual four-day arts extravaganza celebrating arts and culture in Winter Park\, the City of Arts & Culture\, highlighting the 24 members of the Alliance. Festivities throughout theweekend will include dozens of community events and performances in Central Park as well as many cultural venues throughout the city. The mission of the Winter Park Arts & Culture Alliance is to enhance and improve awareness andvisibility of the 24 non-profit organizations within the city limits who provide arts programming. Arts Weekend ~ A Tapestry of Experiences supports this mission. \nAS SEEN IN THE COMMUNITY PAPER \n“CFVA is thrilled to present this concert with our hometown hero\, Jasmine Forsberg. Jasmine grew up here in Central Florida\, attended Timber Creek High School\, and trained at the Orlando Repertory Theatre (now Orlando Family Stage). We are honored to share her incredible artistry with our community and hope to inspire the next generation of Broadway-bound performers—showing them that someone who once stood exactly where they stand has gone on to achieve her dreams on the musical theatre stage.” – Theresa Smith-Levin\, Founder and Executive Director of Central Florida Vocal Arts \nFREE CONCERT:  \nFriday February 6\, 2026 at 7 p.m. Bring your blankets and chairs and enjoy a free community concert featuring SIX The Musical®\, Broadway star Jasmine Forsberg\, backed by a live band led by pianist Julian Bond\, and presented by Central Florida Vocal Arts. Immerse yourself in a showstopping evening of pop rock and musical theater melodies on Central Park main stage.
URL:https://centralfloridavocalarts.org/event/arts-weekend/
LOCATION:Central Park\, 251 S. Park Avenue\, Winter Park\, FL\, 32789\, United States
CATEGORIES:Special Events
ATTACH;FMTTYPE=image/png:https://centralfloridavocalarts.org/wp-content/uploads/2025/12/Untitled-design-14.png
END:VEVENT
END:VCALENDAR