BEGIN:VCALENDAR
VERSION:2.0
PRODID:-//Central Florida Vocal Arts - ECPv6.15.20//NONSGML v1.0//EN
CALSCALE:GREGORIAN
METHOD:PUBLISH
X-WR-CALNAME:Central Florida Vocal Arts
X-ORIGINAL-URL:https://centralfloridavocalarts.org
X-WR-CALDESC:Events for Central Florida Vocal Arts
REFRESH-INTERVAL;VALUE=DURATION:PT1H
X-Robots-Tag:noindex
X-PUBLISHED-TTL:PT1H
BEGIN:VTIMEZONE
TZID:UTC
BEGIN:STANDARD
TZOFFSETFROM:+0000
TZOFFSETTO:+0000
TZNAME:UTC
DTSTART:20240101T000000
END:STANDARD
END:VTIMEZONE
BEGIN:VEVENT
DTSTART;VALUE=DATE:20250424
DTEND;VALUE=DATE:20250501
DTSTAMP:20260422T014230
CREATED:20250424T203439Z
LAST-MODIFIED:20250424T203439Z
UID:3735-1745452800-1746057599@centralfloridavocalarts.org
SUMMARY:Silent Auction Virtual Event
DESCRIPTION:Contributions made now through April 30th will be eligible to access a matching funds pool of up to $1.25M. \nThis year\, we’re coming home!\nFor the first time\, CFVA will have a home base—right in the heart of Winter Park—at the former Winter Park Library\, in partnership with Blue Bamboo Center for the Arts:\n460 E New England Ave\, Winter Park\, FL 32789 \nWe invite YOU to be part of this exciting moment!\n🎁 Bid on our silent auction\n🎭 Attend a performance\n🤝 Join a committee\n📣 Share our story\n📬 Reach out and connect \nYour support helps us build our space—and our future.\nThank you for believing in the power of the arts to uplift and unite!
URL:https://centralfloridavocalarts.org/event/silent-auction-virtual-event/
CATEGORIES:Special Events
END:VEVENT
END:VCALENDAR