BEGIN:VCALENDAR
VERSION:2.0
PRODID:-//Central Florida Vocal Arts - ECPv6.15.20//NONSGML v1.0//EN
CALSCALE:GREGORIAN
METHOD:PUBLISH
X-ORIGINAL-URL:https://centralfloridavocalarts.org
X-WR-CALDESC:Events for Central Florida Vocal Arts
REFRESH-INTERVAL;VALUE=DURATION:PT1H
X-Robots-Tag:noindex
X-PUBLISHED-TTL:PT1H
BEGIN:VTIMEZONE
TZID:UTC
BEGIN:STANDARD
TZOFFSETFROM:+0000
TZOFFSETTO:+0000
TZNAME:UTC
DTSTART:20250101T000000
END:STANDARD
END:VTIMEZONE
BEGIN:VEVENT
DTSTART;TZID=UTC:20260307T150000
DTEND;TZID=UTC:20260308T150000
DTSTAMP:20260421T152109
CREATED:20251215T202730Z
LAST-MODIFIED:20260307T172139Z
UID:4409-1772895600-1772982000@centralfloridavocalarts.org
SUMMARY:Operatic Double Bill: Trouble in Tahiti & Susanna's Secret
DESCRIPTION:Central Florida Vocal Arts’ Opera del Sol closes our Picture Perfect season with two rarely paired one-act operas. The Secret of Susanna (originally Il Segreto di Susanna) is a witty chamber comedy that explores marriage\, independence\, and secrets. In contrast\, Leonard Bernstein’s Trouble in Tahiti reveals the discontent behind the polished facade of 1950s suburban life. Together\, they offer a layered and moving portrait of love\, illusion\, and identity. \nStarring \n\nStephen Mumbert\nCaitlin Mohr\nMarilyn Sharp\nAJ Morales\nDaniel Silva\n\nDirected by Eric Pinder and Music Directed by Victoria Wells \n  \n  \n\nGet Tickets
URL:https://centralfloridavocalarts.org/event/operatic-double-bill-trouble-in-tahiti-susannas-secret/
LOCATION:The Orlando Shakes – Goldman Theater\, 812 E Rollins Street\, Orlando\, 32803\, United States
CATEGORIES:OperaDelSol,Productions
ATTACH;FMTTYPE=image/jpeg:https://centralfloridavocalarts.org/wp-content/uploads/2025/12/season-art-event-headers.jpg
ORGANIZER;CN="Central Florida Vocal Arts":MAILTO:info@centralfloridavocalarts.org
END:VEVENT
BEGIN:VEVENT
DTSTART;TZID=UTC:20260313T193000
DTEND;TZID=UTC:20260313T193000
DTSTAMP:20260421T152109
CREATED:20260119T192615Z
LAST-MODIFIED:20260303T161909Z
UID:4560-1773430200-1773430200@centralfloridavocalarts.org
SUMMARY:Vino e Voce with Timucua Arts Foundation 2026
DESCRIPTION:Timucua’s intimate concert hall transforms once again into a refined opera house\, designed to showcase the beauty and power of the human voice. Vino & Voce is a curated aria-and-wine pairing experience where expressive opera meets thoughtfully selected wines. \nPresented by Central Florida Vocal Arts and Opera del Sol\, this immersive evening pairs captivating vocal performances with wines chosen to enhance the emotional character of each aria. Guests are invited to savor a seamless blend of music and flavor—where every note and every sip deepen the experience. The program features treasured works by Mozart\, Puccini\, Strauss\, and other renowned opera composers. \nThis event is part of Timucua’s Opera Festival 2026. \nDiscounted tickets are available for members\, students\, teachers\, frontline workers\, veterans\, and seniors. \nFree parking is available on Summerlin Avenue and at Wadeview Park.Guests are welcome to bring a bottle of wine or a non-alcoholic beverage to share. \n👉 Get Tickets
URL:https://centralfloridavocalarts.org/event/vino-e-voce-with-timucua-arts-foundation-2026/
LOCATION:The W𝘩𝘪𝘵𝘦 H𝘰𝘶𝘴𝘦\, 2000 S Summerlin Ave\, Orlando\, FL\, 32806\, United States
CATEGORIES:OperaDelSol,Productions,Special Events
ATTACH;FMTTYPE=image/png:https://centralfloridavocalarts.org/wp-content/uploads/2026/01/Opera-Festival-11.png
END:VEVENT
END:VCALENDAR